{
 "currentVersion": 10.81,
 "serviceDescription": "",
 "mapName": "Provincial Base Map",
 "description": "",
 "copyrightText": "",
 "supportsDynamicLayers": false,
 "layers": [
  {
   "id": 0,
   "name": "1:1,000,000",
   "parentLayerId": -1,
   "defaultVisibility": true,
   "subLayerIds": [
    1,
    2,
    3,
    4
   ],
   "minScale": 0,
   "maxScale": 1155581,
   "type": "Group Layer"
  },
  {
   "id": 1,
   "name": "WATER_LINES_NL",
   "parentLayerId": 0,
   "defaultVisibility": true,
   "subLayerIds": null,
   "minScale": 2250000,
   "maxScale": 425001,
   "type": "Feature Layer",
   "geometryType": "esriGeometryPolyline"
  },
  {
   "id": 2,
   "name": "WATER_POLYGONS_NL",
   "parentLayerId": 0,
   "defaultVisibility": true,
   "subLayerIds": null,
   "minScale": 0,
   "maxScale": 0,
   "type": "Feature Layer",
   "geometryType": "esriGeometryPolygon"
  },
  {
   "id": 3,
   "name": "WATER_POLYGONS_NL _ModLake",
   "parentLayerId": 0,
   "defaultVisibility": true,
   "subLayerIds": null,
   "minScale": 2500000,
   "maxScale": 0,
   "type": "Feature Layer",
   "geometryType": "esriGeometryPolygon"
  },
  {
   "id": 4,
   "name": "LANDBASE_NL",
   "parentLayerId": 0,
   "defaultVisibility": true,
   "subLayerIds": null,
   "minScale": 0,
   "maxScale": 0,
   "type": "Feature Layer",
   "geometryType": "esriGeometryPolygon"
  },
  {
   "id": 5,
   "name": "1:250,000",
   "parentLayerId": -1,
   "defaultVisibility": true,
   "subLayerIds": [
    6,
    7,
    8
   ],
   "minScale": 1155580,
   "maxScale": 577799,
   "type": "Group Layer"
  },
  {
   "id": 6,
   "name": "BUILDING_SYMBOLS_250",
   "parentLayerId": 5,
   "defaultVisibility": true,
   "subLayerIds": null,
   "minScale": 0,
   "maxScale": 0,
   "type": "Feature Layer",
   "geometryType": "esriGeometryMultipoint"
  },
  {
   "id": 7,
   "name": "WATER_LINES_250",
   "parentLayerId": 5,
   "defaultVisibility": true,
   "subLayerIds": null,
   "minScale": 0,
   "maxScale": 0,
   "type": "Feature Layer",
   "geometryType": "esriGeometryPolyline"
  },
  {
   "id": 8,
   "name": "WATER_POLYGONS_250",
   "parentLayerId": 5,
   "defaultVisibility": true,
   "subLayerIds": null,
   "minScale": 0,
   "maxScale": 0,
   "type": "Feature Layer",
   "geometryType": "esriGeometryPolygon"
  },
  {
   "id": 9,
   "name": "1:50,000",
   "parentLayerId": -1,
   "defaultVisibility": true,
   "subLayerIds": [
    10,
    11,
    12,
    13,
    14,
    15
   ],
   "minScale": 577798,
   "maxScale": 0,
   "type": "Group Layer"
  },
  {
   "id": 10,
   "name": "Building_Symbols_Points_50",
   "parentLayerId": 9,
   "defaultVisibility": true,
   "subLayerIds": null,
   "minScale": 0,
   "maxScale": 0,
   "type": "Feature Layer",
   "geometryType": "esriGeometryPoint"
  },
  {
   "id": 11,
   "name": "Structures_Lines_50",
   "parentLayerId": 9,
   "defaultVisibility": true,
   "subLayerIds": null,
   "minScale": 0,
   "maxScale": 0,
   "type": "Feature Layer",
   "geometryType": "esriGeometryPolyline"
  },
  {
   "id": 12,
   "name": "WATER_LINES_50",
   "parentLayerId": 9,
   "defaultVisibility": true,
   "subLayerIds": null,
   "minScale": 0,
   "maxScale": 0,
   "type": "Feature Layer",
   "geometryType": "esriGeometryPolyline"
  },
  {
   "id": 13,
   "name": "BUILTUPAREAS_POLYGONS_50",
   "parentLayerId": 9,
   "defaultVisibility": true,
   "subLayerIds": null,
   "minScale": 0,
   "maxScale": 0,
   "type": "Feature Layer",
   "geometryType": "esriGeometryPolygon"
  },
  {
   "id": 14,
   "name": "WATER_POLYGONS_50",
   "parentLayerId": 9,
   "defaultVisibility": true,
   "subLayerIds": null,
   "minScale": 0,
   "maxScale": 0,
   "type": "Feature Layer",
   "geometryType": "esriGeometryPolygon"
  },
  {
   "id": 15,
   "name": "WATER_POLYGONS_50",
   "parentLayerId": 9,
   "defaultVisibility": true,
   "subLayerIds": null,
   "minScale": 0,
   "maxScale": 0,
   "type": "Feature Layer",
   "geometryType": "esriGeometryPolygon"
  }
 ],
 "tables": [],
 "spatialReference": {
  "wkt": "PROJCS[\"NF_GNL1_NAD27\",GEOGCS[\"GCS_North_American_1927\",DATUM[\"D_North_American_1927\",SPHEROID[\"Clarke_1866\",6378206.4,294.9786982]],PRIMEM[\"Greenwich\",0.0],UNIT[\"Degree\",0.0174532925199433]],PROJECTION[\"Transverse_Mercator\"],PARAMETER[\"False_Easting\",1000000.0],PARAMETER[\"False_Northing\",0.0],PARAMETER[\"Central_Meridian\",-59.5],PARAMETER[\"Scale_Factor\",0.998],PARAMETER[\"Latitude_Of_Origin\",0.0],UNIT[\"Meter\",1.0]]"
 },
 "singleFusedMapCache": true,
 "tileInfo": {
  "rows": 256,
  "cols": 256,
  "dpi": 96,
  "format": "MIXED",
  "compressionQuality": 75,
  "origin": {
   "x": -4991401.593657763,
   "y": 1.0397713112310626E7
  },
  "spatialReference": {
   "wkt": "PROJCS[\"NF_GNL1_NAD27\",GEOGCS[\"GCS_North_American_1927\",DATUM[\"D_North_American_1927\",SPHEROID[\"Clarke_1866\",6378206.4,294.9786982]],PRIMEM[\"Greenwich\",0.0],UNIT[\"Degree\",0.0174532925199433]],PROJECTION[\"Transverse_Mercator\"],PARAMETER[\"False_Easting\",1000000.0],PARAMETER[\"False_Northing\",0.0],PARAMETER[\"Central_Meridian\",-59.5],PARAMETER[\"Scale_Factor\",0.998],PARAMETER[\"Latitude_Of_Origin\",0.0],UNIT[\"Meter\",1.0]]"
  },
  "lods": [
   {
    "level": 0,
    "resolution": 2445.984675302684,
    "scale": 9244648
   },
   {
    "level": 1,
    "resolution": 1222.9920730674796,
    "scale": 4622323
   },
   {
    "level": 2,
    "resolution": 611.4959042418085,
    "scale": 2311161
   },
   {
    "level": 3,
    "resolution": 305.74781982897304,
    "scale": 1155580
   },
   {
    "level": 4,
    "resolution": 152.87364533062402,
    "scale": 577789
   },
   {
    "level": 5,
    "resolution": 76.43669037338076,
    "scale": 288894
   },
   {
    "level": 6,
    "resolution": 38.218080602827875,
    "scale": 144446
   },
   {
    "level": 7,
    "resolution": 19.108775717551435,
    "scale": 72222
   },
   {
    "level": 8,
    "resolution": 9.554123274913216,
    "scale": 36110
   },
   {
    "level": 9,
    "resolution": 4.776797053594107,
    "scale": 18054
   },
   {
    "level": 10,
    "resolution": 2.3883985267970536,
    "scale": 9027
   }
  ]
 },
 "initialExtent": {
  "xmin": -534956.8199136404,
  "ymin": 5394572.606572563,
  "xmax": 2644494.5389890783,
  "ymax": 6983345.784118919,
  "spatialReference": {
   "wkt": "PROJCS[\"NF_GNL1_NAD27\",GEOGCS[\"GCS_North_American_1927\",DATUM[\"D_North_American_1927\",SPHEROID[\"Clarke_1866\",6378206.4,294.9786982]],PRIMEM[\"Greenwich\",0.0],UNIT[\"Degree\",0.0174532925199433]],PROJECTION[\"Transverse_Mercator\"],PARAMETER[\"False_Easting\",1000000.0],PARAMETER[\"False_Northing\",0.0],PARAMETER[\"Central_Meridian\",-59.5],PARAMETER[\"Scale_Factor\",0.998],PARAMETER[\"Latitude_Of_Origin\",0.0],UNIT[\"Meter\",1.0]]"
  }
 },
 "fullExtent": {
  "xmin": -4446728.721507057,
  "ymin": 1232675.7605451874,
  "xmax": 6446728.721507057,
  "ymax": 9961282.762226555,
  "spatialReference": {
   "wkt": "PROJCS[\"NF_GNL1_NAD27\",GEOGCS[\"GCS_North_American_1927\",DATUM[\"D_North_American_1927\",SPHEROID[\"Clarke_1866\",6378206.4,294.9786982]],PRIMEM[\"Greenwich\",0.0],UNIT[\"Degree\",0.0174532925199433]],PROJECTION[\"Transverse_Mercator\"],PARAMETER[\"False_Easting\",1000000.0],PARAMETER[\"False_Northing\",0.0],PARAMETER[\"Central_Meridian\",-59.5],PARAMETER[\"Scale_Factor\",0.998],PARAMETER[\"Latitude_Of_Origin\",0.0],UNIT[\"Meter\",1.0]]"
  }
 },
 "minScale": 9244648,
 "maxScale": 9027,
 "units": "esriMeters",
 "supportedImageFormatTypes": "PNG32,PNG24,PNG,JPG,DIB,TIFF,EMF,PS,PDF,GIF,SVG,SVGZ,BMP",
 "documentInfo": {
  "Title": "",
  "Author": "",
  "Comments": "",
  "Subject": "",
  "Category": "",
  "AntialiasingMode": "None",
  "TextAntialiasingMode": "Force",
  "Keywords": ""
 },
 "capabilities": "Map,Query,Data",
 "supportedQueryFormats": "JSON, geoJSON",
 "exportTilesAllowed": false,
 "referenceScale": 0,
 "supportsDatumTransformation": true,
 "maxRecordCount": 1000,
 "maxImageHeight": 4096,
 "maxImageWidth": 4096,
 "supportedExtensions": "KmlServer"
}
